BEGIN:VCALENDAR
VERSION:2.0
PRODID:-//SOLON Unternehmensgruppe - ECPv6.8.3//NONSGML v1.0//EN
CALSCALE:GREGORIAN
METHOD:PUBLISH
X-WR-CALNAME:SOLON Unternehmensgruppe
X-ORIGINAL-URL:https://solon-online.de
X-WR-CALDESC:Veranstaltungen für SOLON Unternehmensgruppe
REFRESH-INTERVAL;VALUE=DURATION:PT1H
X-Robots-Tag:noindex
X-PUBLISHED-TTL:PT1H
BEGIN:VTIMEZONE
TZID:Europe/Berlin
BEGIN:DAYLIGHT
TZOFFSETFROM:+0100
TZOFFSETTO:+0200
TZNAME:CEST
DTSTART:20220327T010000
END:DAYLIGHT
BEGIN:STANDARD
TZOFFSETFROM:+0200
TZOFFSETTO:+0100
TZNAME:CET
DTSTART:20221030T010000
END:STANDARD
BEGIN:DAYLIGHT
TZOFFSETFROM:+0100
TZOFFSETTO:+0200
TZNAME:CEST
DTSTART:20230326T010000
END:DAYLIGHT
BEGIN:STANDARD
TZOFFSETFROM:+0200
TZOFFSETTO:+0100
TZNAME:CET
DTSTART:20231029T010000
END:STANDARD
END:VTIMEZONE
BEGIN:VEVENT
DTSTART;TZID=Europe/Berlin:20231211T190000
DTEND;TZID=Europe/Berlin:20231211T203000
DTSTAMP:20260424T191639
CREATED:20200422T110518Z
LAST-MODIFIED:20231204T065538Z
UID:2546-1702321200-1702326600@solon-online.de
SUMMARY:SOLON Money-Day online
DESCRIPTION:Melde dich hier an\, zu unserem SOLON-Money-Day Digital im Dezember und erfahre auf charmante und humorvolle Art und Weise wie dein Geld von unserer Wirtschaft profitiert. \nACHTUNG: \nDiese Veranstaltung ist ein Webinar. Du kannst dich also registrieren und ganz bequem von zu Hause aus zuschauen. Wir empfehlen hierfür einen Desktop-PC oder einen Laptop\, ein Handy ist eher ungeeignet.
URL:https://solon-online.de/event/solon-money-day/
LOCATION:Online per Webinar\, Deutschland
ORGANIZER;CN="SOLON Unternehmensgruppe":MAILTO:info@solon-online.de
END:VEVENT
BEGIN:VEVENT
DTSTART;TZID=Europe/Berlin:20230422T140000
DTEND;TZID=Europe/Berlin:20230422T180000
DTSTAMP:20260424T191639
CREATED:20221203T153809Z
LAST-MODIFIED:20221203T153809Z
UID:3700-1682172000-1682186400@solon-online.de
SUMMARY:SOLON Investmenttag 2023
DESCRIPTION:Die Börse kennt Bulle und Bär. Und auch wenn wir immer nur auf Bullenmärkte hoffen\, so kommen wir um die Bärenmärkte nicht drum herum. \nEs geht also darum\, sich in jeder Marktphase entsprechend aufzustellen. Hierzu haben wir TOP-Experten der renommiertesten Investmentgesellschaften Deutschlands gemeinsam auf einer Bühne. \nWie oft können wir das erleben? \nVier der TOP- Investmentgesellschaften Deutschlands zur selben Zeit\, am selben Ort. SOLON organisiert für dich den SOLON Investmenttag 2023. \nUnsere Gäste werden sein: \nFidelity Investments – Swen Petenyi Ist der Megatrend – Technologie – in Takt?\nÖkoworld – Marcus Langer Gewinner der Zukunft im globalen Wandel\nACATIS – Stefan Risse Die Inflation: Gekommen um zu bleiben. Aktien sind alternativlos\nDWS – André Köttner Erfolg mit internationaler Anlagestrategie seit 1961\nSOLON – Ralf Niehoff Du bist im Außen nur reich wenn du im Innern reich denkst. \nSichere dir jetzt einen der limitierten Plätze.
URL:https://solon-online.de/event/solon-investmenttag-2023/
LOCATION:Steigenberger Hotel Braunschweig\, Nimesstraße 2\, Braunschweig\, Niedersachsen\, 38100\, Deutschland
ORGANIZER;CN="SOLON Unternehmensgruppe":MAILTO:info@solon-online.de
END:VEVENT
BEGIN:VEVENT
DTSTART;TZID=Europe/Berlin:20221101T190000
DTEND;TZID=Europe/Berlin:20221101T210000
DTSTAMP:20260424T191639
CREATED:20210720T184317Z
LAST-MODIFIED:20220801T144541Z
UID:3196-1667329200-1667336400@solon-online.de
SUMMARY:SOLON Money-Day in Kassel
DESCRIPTION:Melden Sie sich hier an\, zu unserem SOLON-Money-Day in Kassel und erfahren Sie auf charmante und humorvolle Art und Weise wie Ihr Geld von unserer Wirtschaft profitiert. \nACHTUNG: \nAufgrund der Pandemie und den damit verbundenen Einschränkungen ist diese Veranstaltung auf 25 Teilnehmer limitiert.
URL:https://solon-online.de/event/solon-money-day-in-kassel/
LOCATION:Kassel\, Renthof 3\, Kassel\, Hessen
END:VEVENT
BEGIN:VEVENT
DTSTART;TZID=Europe/Berlin:20220829T190000
DTEND;TZID=Europe/Berlin:20220829T213000
DTSTAMP:20260424T191639
CREATED:20210720T184222Z
LAST-MODIFIED:20220801T144616Z
UID:3194-1661799600-1661808600@solon-online.de
SUMMARY:SOLON Money-Day Braunschweig
DESCRIPTION:elden Sie sich hier an\, zu unserem SOLON-Money-Day in Braunschweig und erfahren Sie auf charmante und humorvolle Art und Weise wie Ihr Geld von unserer Wirtschaft profitiert. \nACHTUNG: \nAufgrund der Pandemie und den damit verbundenen Einschränkungen ist diese Veranstaltung auf 25 Teilnehmer limitiert.
URL:https://solon-online.de/event/solon-money-day-braunschweig/
LOCATION:ARTmax\, Frankfurter Straße 2\, Braunschweig\, Niedersachsen\, 38122\, Deutschland
END:VEVENT
BEGIN:VEVENT
DTSTART;TZID=Europe/Berlin:20220716T110000
DTEND;TZID=Europe/Berlin:20220716T170000
DTSTAMP:20260424T191639
CREATED:20160302T150732Z
LAST-MODIFIED:20220703T104209Z
UID:1010-1657969200-1657990800@solon-online.de
SUMMARY:TRAINEE- Seminar
DESCRIPTION:Unser Starter- Seminar für alle\, die mit uns beruflich etwas bewegen wollen. Ein Seminar für Macher und Selbstverwirklicher. In diesem Seminar erfährst du die Grundlagen zur Finanzwirtschaft und wie du deine Karriere mit uns gemeinsam gestalten kannst. \nDieses Seminar kann der Startschuss für eine sehr erfolgreiche berufliche Laufbahn im Leben sein. \nACHTUNG: An diesem Seminar kannst du nur mit einer persönlichen Einladung teilnehmen.
URL:https://solon-online.de/event/trainee-seminar/
LOCATION:TRAINEE- Seminar\, Frankfurter Straße 2\, Braunschweig\, Niedersachsen\, 38122\, Deutschland
ORGANIZER;CN="SOLON Unternehmensgruppe":MAILTO:info@solon-online.de
END:VEVENT
BEGIN:VEVENT
DTSTART;TZID=Europe/Berlin:20220120T190000
DTEND;TZID=Europe/Berlin:20220120T211500
DTSTAMP:20260424T191639
CREATED:20210418T171256Z
LAST-MODIFIED:20211220T124759Z
UID:3133-1642705200-1642713300@solon-online.de
SUMMARY:SOLON Money-Day Minden
DESCRIPTION:Melden Sie sich hier an\, zu unserem SOLON-Money-Day in der Region Minden und erfahren Sie auf charmante und humorvolle Art und Weise wie Ihr Geld von unserer Wirtschaft profitiert. \nACHTUNG: \nAufgrund der Pandemie und den damit verbundenen Einschränkungen ist diese Veranstaltung auf 25 Teilnehmer limitiert.
URL:https://solon-online.de/event/solon-money-day-online/
LOCATION:GOP Bad Oeynhausen\, Bad Oeynhausen\, Deutschland
ORGANIZER;CN="SOLON Unternehmensgruppe":MAILTO:info@solon-online.de
END:VEVENT
BEGIN:VEVENT
DTSTART;TZID=Europe/Berlin:20220110T120000
DTEND;TZID=Europe/Berlin:20220110T193000
DTSTAMP:20260424T191639
CREATED:20201207T195005Z
LAST-MODIFIED:20211220T124847Z
UID:2877-1641816000-1641843000@solon-online.de
SUMMARY:SOLON Jahresauftakt 2022
DESCRIPTION:Jahresauftaktveranstaltung der SOLON Unternehmensgruppe. \nACHTUNG\, diese Veranstaltung ist nur für Mitarbeiter der Firma SOLON mit persönlicher Einladung möglich.
URL:https://solon-online.de/event/solon-jahresauftakt-2021/
LOCATION:Braunschweig\, Deutschland
ORGANIZER;CN="SOLON Unternehmensgruppe":MAILTO:info@solon-online.de
END:VEVENT
END:VCALENDAR